BEGIN:VCALENDAR
VERSION:2.0
PRODID:-//NZ Masters Athletics - ECPv6.15.20//NONSGML v1.0//EN
CALSCALE:GREGORIAN
METHOD:PUBLISH
X-WR-CALNAME:NZ Masters Athletics
X-ORIGINAL-URL:https://nzmastersathletics.org.nz
X-WR-CALDESC:Events for NZ Masters Athletics
REFRESH-INTERVAL;VALUE=DURATION:PT1H
X-Robots-Tag:noindex
X-PUBLISHED-TTL:PT1H
BEGIN:VTIMEZONE
TZID:Pacific/Auckland
BEGIN:STANDARD
TZOFFSETFROM:+1300
TZOFFSETTO:+1200
TZNAME:NZST
DTSTART:20250405T140000
END:STANDARD
BEGIN:DAYLIGHT
TZOFFSETFROM:+1200
TZOFFSETTO:+1300
TZNAME:NZDT
DTSTART:20250927T140000
END:DAYLIGHT
BEGIN:STANDARD
TZOFFSETFROM:+1300
TZOFFSETTO:+1200
TZNAME:NZST
DTSTART:20260404T140000
END:STANDARD
BEGIN:DAYLIGHT
TZOFFSETFROM:+1200
TZOFFSETTO:+1300
TZNAME:NZDT
DTSTART:20260926T140000
END:DAYLIGHT
BEGIN:STANDARD
TZOFFSETFROM:+1300
TZOFFSETTO:+1200
TZNAME:NZST
DTSTART:20270403T140000
END:STANDARD
BEGIN:DAYLIGHT
TZOFFSETFROM:+1200
TZOFFSETTO:+1300
TZNAME:NZDT
DTSTART:20270925T140000
END:DAYLIGHT
END:VTIMEZONE
BEGIN:VEVENT
DTSTART;TZID=Pacific/Auckland:20260808T120000
DTEND;TZID=Pacific/Auckland:20260809T120000
DTSTAMP:20260424T054815
CREATED:20230922T222347Z
LAST-MODIFIED:20260416T020914Z
UID:6033-1786190400-1786276800@nzmastersathletics.org.nz
SUMMARY:New Zealand Masters Indoor Championships 2026
DESCRIPTION:EIT Institute of Sport & Health\nMitre 10 Sport Park HASTINGS \nSaturday 8th August (Start @ 12:00 p.m.) – Sunday 9th August (Start @ 9:00 a.m.) 2026 \nONLINE ENTRIES – OPENING JUNE \nWhen entering\, please use your MASTERS CENTRE CODE:  NTH = Northland\, AKL = Auckland\, WBP = Waikato Bay of Plenty\, HBG = Hawke’s Bay Gisborne\, TAR = Taranaki\, MWA = Manawatu Whanganui\, WEL = Wellington\, TAS = Tasman\, CAN = Canterbury\, OTG = Otago\, STH = Southland\, NI = North Island and OVR = Overseas \n \nMitre 10 Park – Hastings \nLimited accommodation is available at the venue. \nhttps://www.sporty.co.nz/hbcfct/accommodation-hostel \nBooking contact: Kelly@hbcfct.org.nz \n\nEligibility:  Both NZMA Competitive & ANZ Competitive members can compete in this event\, as per the MoU between NZMA & ANZ (September 2016)\nIf you are a financial member of an Athletics NZ Club\, you DO NOT need to join NZMA.\nNZMA ONLINE MEMBERSHIP OPTION\n(All competitors MUST be a financial member of either organisation\, as at the first day of competition)
URL:https://nzmastersathletics.org.nz/event/new-zealand-masters-indoor-championships/
LOCATION:Canterbury
CATEGORIES:Championships
END:VEVENT
END:VCALENDAR