BEGIN:VCALENDAR
VERSION:2.0
PRODID:-//NZ Masters Athletics - ECPv6.15.20//NONSGML v1.0//EN
CALSCALE:GREGORIAN
METHOD:PUBLISH
X-ORIGINAL-URL:https://nzmastersathletics.org.nz
X-WR-CALDESC:Events for NZ Masters Athletics
REFRESH-INTERVAL;VALUE=DURATION:PT1H
X-Robots-Tag:noindex
X-PUBLISHED-TTL:PT1H
BEGIN:VTIMEZONE
TZID:Pacific/Auckland
BEGIN:STANDARD
TZOFFSETFROM:+1300
TZOFFSETTO:+1200
TZNAME:NZST
DTSTART:20230401T140000
END:STANDARD
BEGIN:DAYLIGHT
TZOFFSETFROM:+1200
TZOFFSETTO:+1300
TZNAME:NZDT
DTSTART:20230923T140000
END:DAYLIGHT
BEGIN:STANDARD
TZOFFSETFROM:+1300
TZOFFSETTO:+1200
TZNAME:NZST
DTSTART:20240406T140000
END:STANDARD
BEGIN:DAYLIGHT
TZOFFSETFROM:+1200
TZOFFSETTO:+1300
TZNAME:NZDT
DTSTART:20240928T140000
END:DAYLIGHT
BEGIN:STANDARD
TZOFFSETFROM:+1300
TZOFFSETTO:+1200
TZNAME:NZST
DTSTART:20250405T140000
END:STANDARD
BEGIN:DAYLIGHT
TZOFFSETFROM:+1200
TZOFFSETTO:+1300
TZNAME:NZDT
DTSTART:20250927T140000
END:DAYLIGHT
END:VTIMEZONE
BEGIN:VEVENT
DTSTART;TZID=Pacific/Auckland:20240813T080000
DTEND;TZID=Pacific/Auckland:20240825T170000
DTSTAMP:20260425T102410
CREATED:20231221T034424Z
LAST-MODIFIED:20260114T080948Z
UID:6348-1723536000-1724605200@nzmastersathletics.org.nz
SUMMARY:WMA Track & Field Championships 2026
DESCRIPTION:Looking for a new challenge?  Why not plan a trip to Gothenburg and compete in the WMA 2024 Championships. \nCheck out all the current information by clicking on the link below. \nWORLD MASTERS ATHLETICS – DAEGU 2026
URL:https://nzmastersathletics.org.nz/event/wma-track-field-championships-2024/
LOCATION:Canterbury
CATEGORIES:Championships
END:VEVENT
END:VCALENDAR