BEGIN:VCALENDAR
VERSION:2.0
PRODID:-//NZ Masters Athletics - ECPv6.15.20//NONSGML v1.0//EN
CALSCALE:GREGORIAN
METHOD:PUBLISH
X-ORIGINAL-URL:https://nzmastersathletics.org.nz
X-WR-CALDESC:Events for NZ Masters Athletics
REFRESH-INTERVAL;VALUE=DURATION:PT1H
X-Robots-Tag:noindex
X-PUBLISHED-TTL:PT1H
BEGIN:VTIMEZONE
TZID:Pacific/Auckland
BEGIN:STANDARD
TZOFFSETFROM:+1300
TZOFFSETTO:+1200
TZNAME:NZST
DTSTART:20250405T140000
END:STANDARD
BEGIN:DAYLIGHT
TZOFFSETFROM:+1200
TZOFFSETTO:+1300
TZNAME:NZDT
DTSTART:20250927T140000
END:DAYLIGHT
BEGIN:STANDARD
TZOFFSETFROM:+1300
TZOFFSETTO:+1200
TZNAME:NZST
DTSTART:20260404T140000
END:STANDARD
BEGIN:DAYLIGHT
TZOFFSETFROM:+1200
TZOFFSETTO:+1300
TZNAME:NZDT
DTSTART:20260926T140000
END:DAYLIGHT
BEGIN:STANDARD
TZOFFSETFROM:+1300
TZOFFSETTO:+1200
TZNAME:NZST
DTSTART:20270403T140000
END:STANDARD
BEGIN:DAYLIGHT
TZOFFSETFROM:+1200
TZOFFSETTO:+1300
TZNAME:NZDT
DTSTART:20270925T140000
END:DAYLIGHT
END:VTIMEZONE
BEGIN:VEVENT
DTSTART;TZID=Pacific/Auckland:20260110T080000
DTEND;TZID=Pacific/Auckland:20260110T170000
DTSTAMP:20260424T071855
CREATED:20230922T220344Z
LAST-MODIFIED:20251207T215713Z
UID:6024-1768032000-1768064400@nzmastersathletics.org.nz
SUMMARY:NZMA 10000m Championships
DESCRIPTION:  \n \n  \nThe 2026 NZMA 10000m Championships are being held in conjunction with the 2026 Lovelock Classic at Trust Aoraki Athletics Track in Timaru on 10th January 2026. \nLovelock Classic 2026 – Event Details and Registration \n  \n\nEligibility:  Both NZMA Competitive & ANZ Competitive members can compete in this event\, as per the MoU between NZMA & ANZ (September 2016)\nIf you are a financial member of an Athletics NZ Club\, you DO NOT need to join NZMA.\nNZMA ONLINE MEMBERSHIP OPTION\n(All competitors MUST be a financial member of either organisation\, as at the first day of competition)
URL:https://nzmastersathletics.org.nz/event/nzma-10000m-championships/
LOCATION:Trust Aoraki Athletics Track\, 70 Morgans Road\, Glenwood\, Timaru\, 7910\, New Zealand
CATEGORIES:Championships
END:VEVENT
BEGIN:VEVENT
DTSTART;TZID=Pacific/Auckland:20260123T163000
DTEND;TZID=Pacific/Auckland:20260125T130000
DTSTAMP:20260424T071855
CREATED:20230922T215001Z
LAST-MODIFIED:20260406T233431Z
UID:6021-1769185800-1769346000@nzmastersathletics.org.nz
SUMMARY:South Island Masters Track & Field Championships
DESCRIPTION:The 2026 -2027 South Island Track & Field Championships – Surrey Park\, Invercargill \nFriday 20th – Sunday 22nd November 2026 \nDRAFT EVENT SCHEDULE \nWill be modified if required once entries close \nAthleticNET ONLINE ENTRIES \n \nTo learn how to claim your ATHLETICNET FREE account and ENTER EVENTS – CLICK HERE \n\nEligibility:  Both NZMA Competitive & ANZ Competitive members can compete in this event\, as per the MoU between NZMA & ANZ (September 2016)\nNZMA ONLINE MEMBERSHIP OPTION\n(All competitors MUST be a financial member of either organisation\, as at the first day of competition)
URL:https://nzmastersathletics.org.nz/event/south-island-masters-track-field-championships/
LOCATION:Surrey Park\, Surrey Park Road\, Glengarry\, Invercargill\, 9810\, New Zealand
CATEGORIES:Championships
END:VEVENT
BEGIN:VEVENT
DTSTART;TZID=Pacific/Auckland:20260124T160000
DTEND;TZID=Pacific/Auckland:20260124T160000
DTSTAMP:20260424T071855
CREATED:20231221T083807Z
LAST-MODIFIED:20251207T215033Z
UID:6363-1769270400-1769270400@nzmastersathletics.org.nz
SUMMARY:New Zealand Masters One Mile Championships
DESCRIPTION:The New Zealand Masters One Mile Championships will be held at the Cooks Classic event in Whanganui on Saturday 24 January 2026. \nFurther event details including entry information can be found here;\nPAK’nSAVE COOKS INTERNATIONAL CLASSIC – NZ MASTERS MILE CHAMPIONSHIPS
URL:https://nzmastersathletics.org.nz/event/new-zealand-masters-one-mile-championships/
LOCATION:Cooks Gardens\, 37 Maria Place Extension\, Whanganui\, New Zealand
CATEGORIES:Championships
ATTACH;FMTTYPE=image/jpeg:https://nzmastersathletics.org.nz/wp-content/uploads/2023/12/cooks-gardens-for-website.jpg
END:VEVENT
END:VCALENDAR